BEGIN:VCALENDAR
VERSION:2.0
PRODID:-//CROSSRAY - ECPv5.3.1.1//NONSGML v1.0//EN
CALSCALE:GREGORIAN
METHOD:PUBLISH
X-WR-CALNAME:CROSSRAY
X-ORIGINAL-URL:https://crossray.com.au
X-WR-CALDESC:Events for CROSSRAY
BEGIN:VTIMEZONE
TZID:Australia/Melbourne
BEGIN:STANDARD
TZOFFSETFROM:+1100
TZOFFSETTO:+1000
TZNAME:AEST
DTSTART:20210403T160000
END:STANDARD
BEGIN:DAYLIGHT
TZOFFSETFROM:+1000
TZOFFSETTO:+1100
TZNAME:AEDT
DTSTART:20211002T160000
END:DAYLIGHT
END:VTIMEZONE
BEGIN:VEVENT
DTSTART;VALUE=DATE:20210412
DTEND;VALUE=DATE:20210416
DTSTAMP:20210224T091319
CREATED:20170825T125039Z
LAST-MODIFIED:20170825T125039Z
UID:14345-1618221600-1618480799@crossray.com.au
SUMMARY:Natural environment conference 2018
DESCRIPTION:Description\nEnthralling local punk-cabaret chanteuse Shilpa Ray celebrates her recent album\, Door Girl\, inspired by her stint working the door at Manhattan venue Pianos. Dig into new tunes like “You’re Fucking No One” and “Manhattanoid Creepazoids\,” which hopefully don’t hit too close to home. Enthralling local punk-cabaret chanteuse Shilpa Ray celebrates her recent album\, Door Girl\, inspired by her stint working the door at Manhattan venue Pianos. Dig into new tunes like “You’re Fucking No One” and “Manhattanoid Creepazoids\,” which hopefully don’t hit too close to home.
URL:https://crossray.com.au/classes/natural-environment-conference-2018/
LOCATION:New York Ardesia Bar\, Lexington Avenue\, New York\, NY\, 10022\, United States
CATEGORIES:Hotel,Unique
END:VEVENT
BEGIN:VEVENT
DTSTART;VALUE=DATE:20210602
DTEND;VALUE=DATE:20210606
DTSTAMP:20210224T091320
CREATED:20170825T125526Z
LAST-MODIFIED:20170825T125526Z
UID:14346-1622628000-1622887199@crossray.com.au
SUMMARY:San Francisco Pool Party - September
DESCRIPTION:Description\nConsidering Abot’s fiercely individual sound\, not to mention her inescapable charisma live\, we hope there are many more to come. She presents her multi-media show\, “Power to the God Within\,” as part of her residency at National Sawdust. \nConsidering Abot’s fiercely individual sound\, not to mention her inescapable charisma live\, we hope there are many more to come. She presents her multi-media show\, “Power to the God Within\,” as part of her residency at National Sawdust.
URL:https://crossray.com.au/classes/san-francisco-pool-party-september/
LOCATION:New York Ardesia Bar\, Lexington Avenue\, New York\, NY\, 10022\, United States
CATEGORIES:Event,Hotel
ORGANIZER;CN="Michael":MAILTO:junk@vamtam.com
END:VEVENT
BEGIN:VEVENT
DTSTART;VALUE=DATE:20210829
DTEND;VALUE=DATE:20210831
DTSTAMP:20210224T091320
CREATED:20170825T123338Z
LAST-MODIFIED:20170825T123338Z
UID:14344-1630231200-1630317599@crossray.com.au
SUMMARY:Sunday Lunch
DESCRIPTION:Gather your loved ones and join us at River Cottage for a truly special Sunday lunch\nSundays were made for leisurely lunches\, and River Cottage is no exception. Our Sunday events are a family affair\, set against the breathtaking backdrop of River Cottage HQ. Relax\, explore your famous surroundings and enjoy a delicious lunch\, fresh from the River Cottage kitchen. \nThis is a relaxed dining experience\, you will be seated on one of two long trestle tables alongside your dining companions. There are no menus*\, your chef will explain what is being served and a little bit about where the food came from and how it has been prepared. All you need to do is sit back and soak up the atmosphere. \nWe welcome children of all ages to our Sundays at River Cottage\, with £15 tickets for under-12s. Please purchase an adults ticket for children aged 12 and over.re you coming with a group of 10 or more? Did you know we offer private dining packages? \n“The food itself was as I had expected; beautifully cooked. Massive portions and loads of flavour. The head chef came out to explain the menu and origin of the food. All locally sourced and seasonal” TravelTriangle3\, Trip Advisor
URL:https://crossray.com.au/classes/sunday-lunch/
LOCATION:New York Ardesia Bar\, Lexington Avenue\, New York\, NY\, 10022\, United States
CATEGORIES:Dinner,Unique
ORGANIZER;CN="Michael%20%26amp%3B%20Ashley":MAILTO:junk@vamtam.com
END:VEVENT
BEGIN:VEVENT
DTSTART;VALUE=DATE:20210901
DTEND;VALUE=DATE:20211004
DTSTAMP:20210224T091320
CREATED:20170825T131901Z
LAST-MODIFIED:20170825T131901Z
UID:14349-1630490400-1633258799@crossray.com.au
SUMMARY:Wine and Dine
DESCRIPTION:Enjoy an idyllic day with spectacular views of the East Devon countryside and explore the beautiful Castlewood Vineyard. Afterwards\, join us at River Cottage HQ for a delicious two-course lunch in Hugh’s famous farmhouse. What better way to celebrate the River Cottage ethos than to experience the spectacular countryside in which your food and drink is grown! Castlewood Vineyard is a ‘boutique’ vineyard nestled beneath the ancient hill fort of Musbury Castle. We’ll kick off with a short walk to the vineyard\, followed by a tour through the vines and then a relaxed tasting session. You’ll meet passionate vintner Rob Corbett who meticulously tends to every vine throughout the growing season. Rob will take you on a tour of the vines and tasting room and explain the differences between the Pinot Noir\, Chardonnay and Pinot Meunier grapes that represent three quarters of his vineyard\, along with the varietals that represent the rest.
URL:https://crossray.com.au/classes/wine-and-dine/
LOCATION:New York Ardesia Bar\, Lexington Avenue\, New York\, NY\, 10022\, United States
CATEGORIES:Event,Hotel,Party
ORGANIZER;CN="Michael%20%26amp%3B%20Ashley":MAILTO:junk@vamtam.com
END:VEVENT
BEGIN:VEVENT
DTSTART;VALUE=DATE:20210914
DTEND;VALUE=DATE:20211016
DTSTAMP:20210224T091320
CREATED:20170825T132445Z
LAST-MODIFIED:20170825T132445Z
UID:14350-1631613600-1634295599@crossray.com.au
SUMMARY:New Year’s Eve
DESCRIPTION:Round off the year and welcome the next\, River Cottage-style\, with an evening of great food\, fizz and music in our beautifully restored barn.\nThey say you should start as you mean to go on\, and what better way to kick off a new year than with a night of feasting\, toasting and dancing against the idyllic backdrop of River Cottage HQ? You’ll be treated to four courses of the finest seasonal produce from local growers and our own kitchen garden\, lovingly prepared by the River Cottage chefs. There will be drinks flowing and music from our lively band to get the party started as we head towards midnight. \nArrive at River CottageYou’ll be met at the top of the hill at 6.30pm with a festive mulled drink\, before being transported to River Cottage HQ by tractor and trailer.Welcome and canapésWe’ll greet you in our cosy yurt with canapés and a seasonal cocktail.
URL:https://crossray.com.au/classes/new-years-eve/
LOCATION:New York Ardesia Bar\, Lexington Avenue\, New York\, NY\, 10022\, United States
CATEGORIES:Dinner,Hotel,Party,Pool
ORGANIZER;CN="Michael":MAILTO:junk@vamtam.com
END:VEVENT
BEGIN:VEVENT
DTSTART;VALUE=DATE:20211002
DTEND;VALUE=DATE:20211004
DTSTAMP:20210224T091320
CREATED:20170825T130424Z
LAST-MODIFIED:20170825T130424Z
UID:14347-1633168800-1633258799@crossray.com.au
SUMMARY:Working while travelling alone
DESCRIPTION:Expect to hear songs from their most recent release\, Jessica Rabbit\, which includes standout track\, the spacey\, subdued synth ballad “Hyper Dark.” Mixing bubblegum-snapping\, cheerleader aesthetics and AC/DC hard-rawk brashness\, this bombastic noise punk duo sounds like no one else. Expect to hear songs from their most recent release\, Jessica Rabbit\, which includes standout track\, the spacey\, subdued synth ballad “Hyper Dark.” Expect to hear songs from their most recent release\, Jessica Rabbit\, which includes standout track\, the spacey\, subdued synth ballad “Hyper Dark.” The treatment begins with a compressive sequence to stimulate and balance the left and right hemispheres of the brain\, followed by a focused massage of the spine\, shoulders\, neck and face.Expect to hear songs from their most recent release\, Jessica Rabbit\, which includes standout track\, the spacey\, subdued synth ballad “Hyper Dark.”
URL:https://crossray.com.au/classes/working-while-travelling-alone/
LOCATION:New York Ardesia Bar\, Lexington Avenue\, New York\, NY\, 10022\, United States
CATEGORIES:Dinner,Hotel,Party
ORGANIZER;CN="Michael%20%26amp%3B%20Ashley":MAILTO:junk@vamtam.com
END:VEVENT
BEGIN:VEVENT
DTSTART;VALUE=DATE:20211124
DTEND;VALUE=DATE:20211130
DTSTAMP:20210224T091320
CREATED:20170825T132759Z
LAST-MODIFIED:20170825T132759Z
UID:14351-1637751600-1638183599@crossray.com.au
SUMMARY:San Francisco Pool Pary - August
DESCRIPTION:Description\nJust like she did in 2013\, Sophie is poised to transform contemporary electronic music scene yet again\, and she knows it: the upcoming debut is called Whole New World.\nLike many producers\, avant-dance producer Sophie initial days were shrouded in mystique: hyper-saccharine singles like “Bipp” and live shows veering on veritable performance art—faux soda advertisements included—bespoke not only a keen ear for radio pop sensibilities\, but a complex anti-capitalist critique of the form as well. \nFast-forward to 2017 and the producer’s new music video “It’s Okay to Cry” demolishes those barriers—between her visage and her name\, synthetic and organic\, virtual and real—in a captivating performance of vulnerability\, her face front and center\, singing behind fantastical\, digitally-rendered landscapes. Just like she did in 2013\, Sophie is poised to transform contemporary electronic music scene yet again\, and she knows it: the upcoming debut is called Whole New World.
URL:https://crossray.com.au/classes/san-francisco-pool-pary-august/
LOCATION:New York Ardesia Bar\, Lexington Avenue\, New York\, NY\, 10022\, United States
CATEGORIES:Event,Unique
ORGANIZER;CN="Michael%20%26amp%3B%20Ashley":MAILTO:junk@vamtam.com
END:VEVENT
BEGIN:VEVENT
DTSTART;VALUE=DATE:20211214
DTEND;VALUE=DATE:20211216
DTSTAMP:20210224T091320
CREATED:20170825T131213Z
LAST-MODIFIED:20170825T131213Z
UID:14348-1639479600-1639565999@crossray.com.au
SUMMARY:Travelling alone and enjoying it
DESCRIPTION:Performing now as a larger ensemble\, the band adds a fuller sound and the jolt of live percussion to the stark songs of its sophomore album\, Powerplant.\nAs folk-punk duo Girlpool\, high school friends Harmony Tividad and Cleo Tucker weave complex vocal interplay—unison shouts along with lilting harmonies—above spare guitar melodies. Performing now as a larger ensemble\, the band adds a fuller sound and the jolt of live percussion to the stark songs of its sophomore album\, Powerplant. \nAs folk-punk duo Girlpool\, high school friends Harmony Tividad and Cleo Tucker weave complex vocal interplay—unison shouts along with lilting harmonies—above spare guitar melodies. Performing now as a larger ensemble\, the band adds a fuller sound and the jolt of live percussion to the stark songs of its sophomore album\, Powerplant.
URL:https://crossray.com.au/classes/travelling-alone-and-enjoying-it/
LOCATION:New York Ardesia Bar\, Lexington Avenue\, New York\, NY\, 10022\, United States
CATEGORIES:Event,Hotel,Unique
END:VEVENT
END:VCALENDAR